BEGIN:VCALENDAR
VERSION:2.0
PRODID:-//Gabi Wenz - ECPv6.2.9//NONSGML v1.0//EN
CALSCALE:GREGORIAN
METHOD:PUBLISH
X-ORIGINAL-URL:https://gabi-wenz.de
X-WR-CALDESC:Veranstaltungen für Gabi Wenz
REFRESH-INTERVAL;VALUE=DURATION:PT1H
X-Robots-Tag:noindex
X-PUBLISHED-TTL:PT1H
BEGIN:VTIMEZONE
TZID:UTC
BEGIN:STANDARD
TZOFFSETFROM:+0000
TZOFFSETTO:+0000
TZNAME:UTC
DTSTART:20210101T000000
END:STANDARD
END:VTIMEZONE
BEGIN:VEVENT
DTSTART;TZID=UTC:20210619T150000
DTEND;TZID=UTC:20210619T180000
DTSTAMP:20260423T120400
CREATED:20210315T150657Z
LAST-MODIFIED:20210617T152837Z
UID:1332-1624114800-1624125600@gabi-wenz.de
SUMMARY:Naturkosmetik selbstgemacht // VHS Allershausen - ENTFÄLLT
DESCRIPTION:Kosmetik selbst herzustellen ist eine wahrhaft sinnliche Erfahrung. Ob als Geschenk oder fürs eigene Badezimmer – reinigend\, helfend\, heilend und verführerisch duftend sollen die Kreationen dieses Workshops sein.  \n\n\n\nWir wollen sprudelnde Badebomben\, fluffige Körpersahne\, Tagescreme und pflegenden Lippenbalsam gemeinsam herstellen und liebevoll verpacken. Dabei steht der Spaß am Tun und der Austausch an erster Stelle.  \n\n\n\n Mitzubringen falls vorhanden: Cremedöschen\, kleine Gläser und kleine Flaschen. \n\n\n\nKurs SA 3003
URL:https://gabi-wenz.de/termin/naturkosmetik-selber-herstellen-2/
LOCATION:Schulküche Schule Allershausen\, Schulstraße 4-6\, Allershausen\, 85391\, Deutschland
CATEGORIES:Kräuter,Kreative Wildnis,Wildnis
ATTACH;FMTTYPE=image/jpeg:https://gabi-wenz.de/wp-content/uploads/2021/03/Harzsalbe-kochen-gabi-wenz.jpg
ORGANIZER;CN="VHS Allershausen":MAILTO:info@vhs-allershausen.de
END:VEVENT
END:VCALENDAR