BEGIN:VCALENDAR
VERSION:2.0
PRODID:-//Gabi Wenz - ECPv6.2.9//NONSGML v1.0//EN
CALSCALE:GREGORIAN
METHOD:PUBLISH
X-ORIGINAL-URL:https://gabi-wenz.de
X-WR-CALDESC:Veranstaltungen für Gabi Wenz
REFRESH-INTERVAL;VALUE=DURATION:PT1H
X-Robots-Tag:noindex
X-PUBLISHED-TTL:PT1H
BEGIN:VTIMEZONE
TZID:UTC
BEGIN:STANDARD
TZOFFSETFROM:+0000
TZOFFSETTO:+0000
TZNAME:UTC
DTSTART:20210101T000000
END:STANDARD
END:VTIMEZONE
BEGIN:VEVENT
DTSTART;TZID=UTC:20210623T193000
DTEND;TZID=UTC:20210623T210000
DTSTAMP:20260423T121239
CREATED:20210316T104444Z
LAST-MODIFIED:20210613T102941Z
UID:1352-1624476600-1624482000@gabi-wenz.de
SUMMARY:Jahreskreisfeste - Sommersonnwend feiern // Online Treffen
DESCRIPTION:Anmeldung bis eine Woche vor dem Online Termin (Erklärung siehe Ablauf)  Nachspürtreffen Online zur Sommersonnwend. Zur Sommersonnwend am 21.6.2021\, dem längsten Tag und der kürzesten Nacht\, steht die Sonne auf der Nordhalbkugel am höchsten. Dieser Tag wird seit je her von den Menschen auf der ganzen Welt als ein mystisch-magischer Tag betrachtet und gefeiert.  \n\n\n\nWir wagen den Sprung übers Feuer um Beziehungen\, Freundschaften\, Verbindungen zu besiegeln oder zu festigen. Auch geht es ums Innehalten und Gewahr werden\, dass die zunehmende Zeit der Sonneneinstrahlung beendet ist. Reife und Fülle stehen im Vordergrund\, dafür danken wir allen Elementen\, die uns zu diesem Reichtum verholfen haben. \n\n\n\nAblauf: Die Anmeldung zu allen Jahreskreisfesten muss immer mindestens eine Woche vor dem Online- oder Präsenz-Treffen stattfinden\, denn Du bekommst bereits1-2 Wochen vor dem Festtermin zwei E-Mails mit Infos und Anregungen zum Thema.  Mit  unseren Anleitungen kannst du dich optimal auf das jeweilige Fest  einstimmen – in deinem eigenen Tempo und angepasst an deine  Alltagsgegebenheiten.  Am 23.06. treffen wir uns online zum Nachspüren und Austauschen unserer Erlebnisse und Gedanken.  \n\n\n\n\n\n Auskunft: 0176 20 000 726\, info@perlmuschel.de  \n\n\n\nAnmeldung bitte per mail an: Jahreskreisfeste@yahoo.com
URL:https://gabi-wenz.de/termin/jahreskreisfeste-sommersonnwend-feiern-online-treffen/
LOCATION:Online-Treffen via Zoom www.zoom.de
CATEGORIES:Jahreskreisfeste,Online Seminar
ATTACH;FMTTYPE=image/jpeg:https://gabi-wenz.de/wp-content/uploads/2021/03/Jahreskreisfeste-gabi-wenz-wasser-weiber-wildnis-online.jpg
ORGANIZER;CN="Conny%2C Gabi &#038%3B Julia &#8211%3B Team Jahreskreisfeste":MAILTO:jahreskreisfeste@yahoo.com
END:VEVENT
END:VCALENDAR