BEGIN:VCALENDAR
VERSION:2.0
PRODID:-//Gabi Wenz - ECPv6.2.9//NONSGML v1.0//EN
CALSCALE:GREGORIAN
METHOD:PUBLISH
X-WR-CALNAME:Gabi Wenz
X-ORIGINAL-URL:https://gabi-wenz.de
X-WR-CALDESC:Veranstaltungen für Gabi Wenz
REFRESH-INTERVAL;VALUE=DURATION:PT1H
X-Robots-Tag:noindex
X-PUBLISHED-TTL:PT1H
BEGIN:VTIMEZONE
TZID:Europe/Berlin
BEGIN:DAYLIGHT
TZOFFSETFROM:+0100
TZOFFSETTO:+0200
TZNAME:CEST
DTSTART:20210328T010000
END:DAYLIGHT
BEGIN:STANDARD
TZOFFSETFROM:+0200
TZOFFSETTO:+0100
TZNAME:CET
DTSTART:20211031T010000
END:STANDARD
END:VTIMEZONE
BEGIN:VEVENT
DTSTART;TZID=Europe/Berlin:20210626T180000
DTEND;TZID=Europe/Berlin:20210626T210000
DTSTAMP:20260425T132021
CREATED:20210316T102725Z
LAST-MODIFIED:20210317T154917Z
UID:1337-1624730400-1624741200@gabi-wenz.de
SUMMARY:Jahreskreisfeste - Sommersonnwend feiern // Präsenz Treffen Raum Bayreuth
DESCRIPTION:Zur Sommersonnwend am 21.6.\, dem längsten Tag und der kürzesten Nacht\, steht die Sonne auf der Nordhalbkugel am höchsten. Dieser Tag wird seit je her von den Menschen auf der ganzen Welt als ein mystisch-magischer Tag betrachtet und gefeiert.  \n\n\n\nWir wagen den Sprung übers Feuer um Beziehungen\, Freundschaften\, Verbindungen zu besiegeln oder zu festigen. Auch geht es ums Innehalten und Gewahr werden\, dass die zunehmende Zeit der Sonneneinstrahlung beendet ist. Reife und Fülle stehen im Vordergrund\, dafür danken wir allen Elementen\, die uns zu diesem Reichtum verholfen haben. \n\n\n\nAblauf:Die Präsenz-Treffen stehen in Zusammenhang mit dem Online-Seminar. Hier  erhältst du schon die Tage vor  dem Festtermin zwei E-Mails mit Infos  und Anregungen zum Thema.  Mit  unseren Anleitungen kannst du dich  optimal auf das jeweilige Fest  einstimmen – in deinem eigenen Tempo und angepasst an deine Alltagsgegebenheiten.  \n\n\n\nDu kannst aber auch nur an dem Präsenztreffen teilnehmen\,  bekommst einen kurzen Überblick und feierst am 26.06.2021 im Raum Bayreuth das Fest mit uns in der Natur – soweit dies in Hinblick auf  Covid19 möglich ist.   \n\n\n\nDiese Veranstaltung basiert auf Spendenbasis. Wir bitten um Energieausgleich. \n\n\n\nAm 25.06.2021 treffen wir uns online zum Nachspüren und Austauschen unserer Erlebnisse und Gedanken. Zum Online Treffen Termin >>>HIER<<< \n\n\n\n Anmeldung: Jahreskreisfeste@yahoo.com  \n\n\n\n 25 € (Vorbereitungsmails und Onlinetreffen)Für die zusätzliche\, vom Kurs unabhängige Teilnahme am Präsenztreffen bitten wir um einen Energieausgleich auf Spendenbasis
URL:https://gabi-wenz.de/termin/jahreskreisfeste-sommersonnwend-feiern-prasenz/
LOCATION:Raum Bayreuth
CATEGORIES:Jahreskreisfeste
ATTACH;FMTTYPE=image/jpeg:https://gabi-wenz.de/wp-content/uploads/2021/02/Jahreskreisfeste-raeuchern-gabi-wenz.jpg
ORGANIZER;CN="Conny%2C Gabi &#038%3B Julia &#8211%3B Team Jahreskreisfeste":MAILTO:jahreskreisfeste@yahoo.com
END:VEVENT
END:VCALENDAR