BEGIN:VCALENDAR
VERSION:2.0
PRODID:-//Gabi Wenz - ECPv6.2.9//NONSGML v1.0//EN
CALSCALE:GREGORIAN
METHOD:PUBLISH
X-ORIGINAL-URL:https://gabi-wenz.de
X-WR-CALDESC:Veranstaltungen für Gabi Wenz
REFRESH-INTERVAL;VALUE=DURATION:PT1H
X-Robots-Tag:noindex
X-PUBLISHED-TTL:PT1H
BEGIN:VTIMEZONE
TZID:UTC
BEGIN:STANDARD
TZOFFSETFROM:+0000
TZOFFSETTO:+0000
TZNAME:UTC
DTSTART:20210101T000000
END:STANDARD
END:VTIMEZONE
BEGIN:VEVENT
DTSTART;TZID=UTC:20210716T140000
DTEND;TZID=UTC:20210718T150000
DTSTAMP:20260423T115057
CREATED:20210222T151442Z
LAST-MODIFIED:20210222T152125Z
UID:1189-1626444000-1626620400@gabi-wenz.de
SUMMARY:Faszination Wasser
DESCRIPTION:Spielend die Geheimnisse des Wassers erkundenWeiterbildungskurs in Zusammenarbeit mit Waldzeit e.V. \n\n\n\nOhne Wasser wäre ein Leben auf der Erde unvorstellbar\, in diesem Element ist das Leben entstanden. Vielleicht auch ein Grund\, warum das Wasser auf Kinder eine so enorme Anziehungskraft ausübt. Jede Pfütze muss erobert werden – matschen mit Erde und Wasser gehört zum täglichen Spiel. \n\n\n\nWasser ist\nein vielseitiges Element\, das im Kindergarten beinahe unendliche Möglichkeiten\nbietet. Während dieser drei Tage beschäftigen wir uns mit Eigenschaften und\nBedeutung des Wassers und erforschen das geheimnisvolle Leben des Lebensraumes\nGewässer und Gewässerrand. Mit Sieb und Pinsel untersuchen wir die Kleinlebewesen\nin Fließ- und Stillgewässern\, lernen ihre Anpassungen an das Wasser und ihre\nLebensweise kennen. Wir beschäftigen uns aber auch mit Wirbeltieren und\nPflanzen\, die auf das Wasser angewiesen sind und experimentieren mit einfachen\nchemischen und physikalischen Versuchen\, die sich leicht im Kindergarten\numsetzen lassen. Mythen und Sagen rund um das Thema Wasser runden die\nFortbildung ab. \n\n\n\nZielgruppePädagogische Fachkräfte in Kindertageseinrichtungen. Die Kurse sind aber auch für Gruppenleiter\, Betreuerinnen von Kinderfreizeiten und Interessierte geeignet ReferentinGabi WenzDiplom-Biologin\, Wildnispädagogin und Lehrerin \n\n\n\nBegleitung und Anmeldung:Hanni Reischl\, WaldZeit e.V.Umweltingenieurin und Waldführerin
URL:https://gabi-wenz.de/termin/faszination-wasser/
LOCATION:Wildniscamp am Falkenstein\, Zwieslerwaldhaus 2B\, Lindberg\, 94227\, Deutschland
CATEGORIES:Fortbildungen & Wanderreisen,Wasser
ATTACH;FMTTYPE=image/jpeg:https://gabi-wenz.de/wp-content/uploads/2020/01/Faszination-wasser-gabiwenz.jpg
ORGANIZER;CN="WaldZeit e.V.":MAILTO:info@waldzeit.de
END:VEVENT
END:VCALENDAR